BEGIN:VCALENDAR
VERSION:2.0
PRODID:-//Athena//Youth Programs//EN
CALSCALE:GREGORIAN
METHOD:PUBLISH
X-WR-CALNAME:Spring Soccer U8
X-WR-TIMEZONE:America/Denver
BEGIN:VEVENT
UID:program-rec6cmGPQh1IZGqe3-season@athena.com
DTSTAMP:20260423T223043Z
DTSTART;VALUE=DATE:20260425
DTEND;VALUE=DATE:20260616
SUMMARY:Spring Soccer U8
DESCRIPTION:Offered by: Lehi Legacy Center\nAges: 6–8\nCost: $45\nRegister 
 at: https://lehilegacycenter.activityreg.com\nView on Athena: https://athe
 na.com/programs/rec6cmGPQh1IZGqe3
LOCATION:Lehi\, UT
URL:https://athena.com/programs/rec6cmGPQh1IZGqe3
END:VEVENT
BEGIN:VEVENT
UID:program-rec6cmGPQh1IZGqe3-deadline@athena.com
DTSTAMP:20260423T223043Z
DTSTART;VALUE=DATE:20260420
DTEND;VALUE=DATE:20260421
SUMMARY:Register by today: Spring Soccer U8
DESCRIPTION:Registration deadline for Spring Soccer U8.\n\nOffered by: Lehi
  Legacy Center\nAges: 6–8\nCost: $45\nRegister at: https://lehilegacycente
 r.activityreg.com\nView on Athena: https://athena.com/programs/rec6cmGPQh1
 IZGqe3
LOCATION:Lehi\, UT
URL:https://athena.com/programs/rec6cmGPQh1IZGqe3
END:VEVENT
END:VCALENDAR