BEGIN:VCALENDAR
VERSION:2.0
PRODID:-//Athena//Youth Programs//EN
CALSCALE:GREGORIAN
METHOD:PUBLISH
X-WR-CALNAME:BYU Sports Camps - Softball
X-WR-TIMEZONE:America/Denver
BEGIN:VEVENT
UID:program-rec5qUsoQ5AOqzhtW-season@athena.com
DTSTAMP:20260423T223208Z
DTSTART;VALUE=DATE:20260425
DTEND;VALUE=DATE:20260809
SUMMARY:BYU Sports Camps - Softball
DESCRIPTION:Offered by: BYU Sports Camps\nRegister at: https://www.byusport
 scamps.com/\nView on Athena: https://athena.com/programs/rec5qUsoQ5AOqzhtW
LOCATION:Provo\, UT
URL:https://athena.com/programs/rec5qUsoQ5AOqzhtW
END:VEVENT
END:VCALENDAR