BEGIN:VCALENDAR
VERSION:2.0
PRODID:-//Athena//Youth Programs//EN
CALSCALE:GREGORIAN
METHOD:PUBLISH
X-WR-CALNAME:BYU Sports Camps - Gymnastics
X-WR-TIMEZONE:America/Denver
BEGIN:VEVENT
UID:program-rec5l2pruIRdyJcEr-season@athena.com
DTSTAMP:20260423T222845Z
DTSTART;VALUE=DATE:20260425
DTEND;VALUE=DATE:20260809
SUMMARY:BYU Sports Camps - Gymnastics
DESCRIPTION:Offered by: BYU Sports Camps\nRegister at: https://www.byusport
 scamps.com/\nView on Athena: https://athena.com/programs/rec5l2pruIRdyJcEr
LOCATION:Provo\, UT
URL:https://athena.com/programs/rec5l2pruIRdyJcEr
END:VEVENT
END:VCALENDAR