BEGIN:VCALENDAR
VERSION:2.0
PRODID:-//Athena//Youth Programs//EN
CALSCALE:GREGORIAN
METHOD:PUBLISH
X-WR-CALNAME:Momentum Climbing - Lehi Youth
X-WR-TIMEZONE:America/Denver
BEGIN:VEVENT
UID:program-rec3xxj7DGR4KKWmB-season@athena.com
DTSTAMP:20260423T223136Z
DTSTART;VALUE=DATE:20260216
DTEND;VALUE=DATE:20260517
SUMMARY:Momentum Climbing - Lehi Youth
DESCRIPTION:Offered by: Momentum Climbing\nAges: 12–18\nCost: $339\nRegiste
 r at: https://momentumclimbing.com/lehi/youth/\nView on Athena: https://at
 hena.com/programs/rec3xxj7DGR4KKWmB
LOCATION:Lehi\, UT
URL:https://athena.com/programs/rec3xxj7DGR4KKWmB
END:VEVENT
BEGIN:VEVENT
UID:program-rec3xxj7DGR4KKWmB-deadline@athena.com
DTSTAMP:20260423T223136Z
DTSTART;VALUE=DATE:20260126
DTEND;VALUE=DATE:20260127
SUMMARY:Register by today: Momentum Climbing - Lehi Youth
DESCRIPTION:Registration deadline for Momentum Climbing - Lehi Youth.\n\nOf
 fered by: Momentum Climbing\nAges: 12–18\nCost: $339\nRegister at: https:/
 /momentumclimbing.com/lehi/youth/\nView on Athena: https://athena.com/prog
 rams/rec3xxj7DGR4KKWmB
LOCATION:Lehi\, UT
URL:https://athena.com/programs/rec3xxj7DGR4KKWmB
END:VEVENT
END:VCALENDAR