BEGIN:VCALENDAR
VERSION:2.0
PRODID:-//Athena//Youth Programs//EN
CALSCALE:GREGORIAN
METHOD:PUBLISH
X-WR-CALNAME:BYU Softball 1
X-WR-TIMEZONE:America/Denver
BEGIN:VEVENT
UID:program-rec2kxjk5lqMyeZJu-season@athena.com
DTSTAMP:20260423T223136Z
DTSTART;VALUE=DATE:20260615
DTEND;VALUE=DATE:20260620
SUMMARY:BYU Softball 1
DESCRIPTION:Offered by: BYU Sports Camps\nCost: $465\nRegister at: https://
 campscui.active.com/orgs/BrighamYoungUniversity0?newcui=true#/selectSessio
 ns/3741635\nView on Athena: https://athena.com/programs/rec2kxjk5lqMyeZJu
LOCATION:Provo\, UT
URL:https://athena.com/programs/rec2kxjk5lqMyeZJu
END:VEVENT
END:VCALENDAR