BEGIN:VCALENDAR
VERSION:2.0
PRODID:-//Athena//Youth Programs//EN
CALSCALE:GREGORIAN
METHOD:PUBLISH
X-WR-CALNAME:Co-Ed Volleyball
X-WR-TIMEZONE:America/Denver
BEGIN:VEVENT
UID:program-rec1v9Jf88BqkRcdx-season@athena.com
DTSTAMP:20260423T223208Z
DTSTART;VALUE=DATE:20260321
DTEND;VALUE=DATE:20260322
SUMMARY:Co-Ed Volleyball
DESCRIPTION:Offered by: Lehi Legacy Center\nAges: 18–99\nRegister at: https
 ://www.lehi-ut.gov/recreation-community/legacy-center/sports/youth-sports/
 \nView on Athena: https://athena.com/programs/rec1v9Jf88BqkRcdx
LOCATION:Lehi\, UT
URL:https://athena.com/programs/rec1v9Jf88BqkRcdx
END:VEVENT
BEGIN:VEVENT
UID:program-rec1v9Jf88BqkRcdx-deadline@athena.com
DTSTAMP:20260423T223208Z
DTSTART;VALUE=DATE:20260218
DTEND;VALUE=DATE:20260219
SUMMARY:Register by today: Co-Ed Volleyball
DESCRIPTION:Registration deadline for Co-Ed Volleyball.\n\nOffered by: Lehi
  Legacy Center\nAges: 18–99\nRegister at: https://www.lehi-ut.gov/recreati
 on-community/legacy-center/sports/youth-sports/\nView on Athena: https://a
 thena.com/programs/rec1v9Jf88BqkRcdx
LOCATION:Lehi\, UT
URL:https://athena.com/programs/rec1v9Jf88BqkRcdx
END:VEVENT
END:VCALENDAR