BEGIN:VCALENDAR
VERSION:2.0
PRODID:-//Athena//Youth Programs//EN
CALSCALE:GREGORIAN
METHOD:PUBLISH
X-WR-CALNAME:Fall Outdoor Soccer
X-WR-TIMEZONE:America/Denver
BEGIN:VEVENT
UID:program-rec1Z3MTZKxANfZ26-season@athena.com
DTSTAMP:20260423T223138Z
DTSTART;VALUE=DATE:20260829
DTEND;VALUE=DATE:20260830
SUMMARY:Fall Outdoor Soccer
DESCRIPTION:Offered by: Lehi Legacy Center\nAges: 5–14\nRegister at: https:
 //www.lehi-ut.gov/recreation-community/legacy-center/sports/youth-sports/\
 nView on Athena: https://athena.com/programs/rec1Z3MTZKxANfZ26
LOCATION:Lehi\, UT
URL:https://athena.com/programs/rec1Z3MTZKxANfZ26
END:VEVENT
BEGIN:VEVENT
UID:program-rec1Z3MTZKxANfZ26-deadline@athena.com
DTSTAMP:20260423T223138Z
DTSTART;VALUE=DATE:20260617
DTEND;VALUE=DATE:20260618
SUMMARY:Register by today: Fall Outdoor Soccer
DESCRIPTION:Registration deadline for Fall Outdoor Soccer.\n\nOffered by: L
 ehi Legacy Center\nAges: 5–14\nRegister at: https://www.lehi-ut.gov/recrea
 tion-community/legacy-center/sports/youth-sports/\nView on Athena: https:/
 /athena.com/programs/rec1Z3MTZKxANfZ26
LOCATION:Lehi\, UT
URL:https://athena.com/programs/rec1Z3MTZKxANfZ26
END:VEVENT
END:VCALENDAR