BEGIN:VCALENDAR
VERSION:2.0
PRODID:-//Athena//Youth Programs//EN
CALSCALE:GREGORIAN
METHOD:PUBLISH
X-WR-CALNAME:The Ruth Academy - Summer Theater Camp Session 2 (Ages 13-18)
X-WR-TIMEZONE:America/Denver
BEGIN:VEVENT
UID:program-rec0sAQjxdr0Mvgos-season@athena.com
DTSTAMP:20260423T222955Z
DTSTART;VALUE=DATE:20260622
DTEND;VALUE=DATE:20260627
SUMMARY:The Ruth Academy - Summer Theater Camp Session 2 (Ages 13-18)
DESCRIPTION:Offered by: The Ruth / Hale Centre Theatre\nAges: 13–18\nRegist
 er at: https://www.theruth.org/education/summer-camps\nView on Athena: htt
 ps://athena.com/programs/rec0sAQjxdr0Mvgos
LOCATION:Orem\, UT
URL:https://athena.com/programs/rec0sAQjxdr0Mvgos
END:VEVENT
END:VCALENDAR