BEGIN:VCALENDAR
VERSION:2.0
PRODID:-//Athena//Youth Programs//EN
CALSCALE:GREGORIAN
METHOD:PUBLISH
X-WR-CALNAME:Sport City Utah - Baseball Summer Camp Session 3 (Ages 5-12)
X-WR-TIMEZONE:America/Denver
BEGIN:VEVENT
UID:program-rec0okw5c5sheBsUH-season@athena.com
DTSTAMP:20260423T223130Z
DTSTART;VALUE=DATE:20260728
DTEND;VALUE=DATE:20260807
SUMMARY:Sport City Utah - Baseball Summer Camp Session 3 (Ages 5-12)
DESCRIPTION:Offered by: Sport City Utah\nAges: 5–12\nCost: $120\nRegister a
 t: https://www.sportcityutah.com/summer-camp\nView on Athena: https://athe
 na.com/programs/rec0okw5c5sheBsUH
LOCATION:Draper\, UT
URL:https://athena.com/programs/rec0okw5c5sheBsUH
END:VEVENT
END:VCALENDAR