BEGIN:VCALENDAR
VERSION:2.0
PRODID:-//Athena//Youth Programs//EN
CALSCALE:GREGORIAN
METHOD:PUBLISH
X-WR-CALNAME:Timpanogos Arts - Anime\, Caricature & Comics Camp (Ages 8+)
X-WR-TIMEZONE:America/Denver
BEGIN:VEVENT
UID:program-rec07h2velRi4DmZY-season@athena.com
DTSTAMP:20260423T222955Z
DTSTART;VALUE=DATE:20260729
DTEND;VALUE=DATE:20260803
SUMMARY:Timpanogos Arts - Anime\, Caricature & Comics Camp (Ages 8+)
DESCRIPTION:Offered by: Timpanogos Arts Foundation\nAges: 8–18\nCost: $150\
 nRegister at: https://americanforkarts.com/tva_summer_camps/\nView on Athe
 na: https://athena.com/programs/rec07h2velRi4DmZY
LOCATION:American Fork\, UT
URL:https://athena.com/programs/rec07h2velRi4DmZY
END:VEVENT
END:VCALENDAR